BEGIN:VCALENDAR
VERSION:2.0
PRODID:-//hacksw/handcal//NONSGML v1.0//EN
CALSCALE:GREGORIAN
BEGIN:VEVENT
UID:69ea6f1c1bf13
DTSTAMP:20260423T191228
LOCATION:Sinterklaasplein\,Molenaarsplein 24
DESCRIPTION:Ook dit jaar zal Sinterklaas met zijn pietengevolg Ermelo weer aandoen. De sint zal op zaterdag 12 november in Ermelo arriveren.
SUMMARY:Intocht Sinterklaas Ermelo 2022
URL;VALUE=URI:https://www.ermelosezaken.nl/agenda/intocht-sinterklaas-ermelo-2022
DTSTART:20221111T143000
DTEND:20221111T235900
END:VEVENT
END:VCALENDAR
