BEGIN:VCALENDAR
VERSION:2.0
PRODID:-//hacksw/handcal//NONSGML v1.0//EN
CALSCALE:GREGORIAN
BEGIN:VEVENT
UID:69e737f4e5c47
DTSTAMP:20260421T084020
LOCATION:Centrum Ermelo\, 
DESCRIPTION:Donderdag 27 april is het Koningsdag\, dat betekent volop activiteiten in Ermelo. Op het Raadhuisplein wordt Koningsdag geopend met vanaf 9.30 uur de aubade. Tussen 10.00 en 17.00 uur is er door de Stationsstraat een Oranjebraderie en kleedjesmarkt en muziek op het Oranjeplein.&nbsp\;
SUMMARY:Koningsdag Ermelo 2023
URL;VALUE=URI:https://www.ermelosezaken.nl/agenda/koningsdag-ermelo-2023
DTSTART:20230426T000000
DTEND:20230426T235900
END:VEVENT
END:VCALENDAR
