BEGIN:VCALENDAR
VERSION:2.0
PRODID:-//hacksw/handcal//NONSGML v1.0//EN
CALSCALE:GREGORIAN
BEGIN:VEVENT
UID:69e4f85f50d57
DTSTAMP:20260419T154431
LOCATION:Ermelo\, 
DESCRIPTION:Maandag 27 april is het Koningsdag\, dat betekent volop activiteiten in Ermelo. Door de hele Stationsstraat kramen\, kleedjes\, muziek\, terrassen en entertainment.
SUMMARY:Koningsdag Ermelo 2026
URL;VALUE=URI:https://www.ermelosezaken.nl/agenda/koningsdag-ermelo-2026
DTSTART:20260427T093000
DTEND:20260427T235900
END:VEVENT
END:VCALENDAR
