BEGIN:VCALENDAR
VERSION:2.0
PRODID:-//hacksw/handcal//NONSGML v1.0//EN
CALSCALE:GREGORIAN
BEGIN:VEVENT
UID:69ea6f7ef2fa3
DTSTAMP:20260423T191406
LOCATION:Pauwenplein Ermelo\, 
DESCRIPTION:Shantykoor Ermeluiden uit Ermelo bestaat dit jaar 20 jaar. Dit wordt gevierd met verschillende activiteiten. Zo zal er op zaterdag 19 augustus tussen 11.30 en 17.00 uur een Mini Shantyfestival plaatsvinden op het Pauwenplein in Ermelo. Ook zal er op 30 september een feestavond worden georganiseerd in de Dialoog.
SUMMARY:Mini Shantykoren Festival Ermelo
URL;VALUE=URI:https://www.ermelosezaken.nl/agenda/mini-shantykoren-festival-ermelo
DTSTART:20230818T113000
DTEND:20230818T235900
END:VEVENT
END:VCALENDAR
