BEGIN:VCALENDAR
VERSION:2.0
PRODID:-//hacksw/handcal//NONSGML v1.0//EN
CALSCALE:GREGORIAN
BEGIN:VEVENT
UID:69e797051c1c7
DTSTAMP:20260421T152557
LOCATION:De Dialoog\,Raadhuisplein 
DESCRIPTION:Dus alles moet sneller\, sexier\, flitsender\, glimmender. Alles moet worden opgepompt en opgepimpt: Hoe pooier\, hoe mooier&hellip\;
SUMMARY:Peter Lusse komt met &lsquo\;Hoe pooier\, hoe mooier&rsquo\;
URL;VALUE=URI:https://www.ermelosezaken.nl/agenda/peter-lusse-komt-met-hoe-pooier-hoe-mooier
DTSTART:20260508T201500
DTEND:20260508T235900
END:VEVENT
END:VCALENDAR
