BEGIN:VCALENDAR
VERSION:2.0
PRODID:-//hacksw/handcal//NONSGML v1.0//EN
CALSCALE:GREGORIAN
BEGIN:VEVENT
UID:69ea70b4722c1
DTSTAMP:20260423T191916
LOCATION:Centrum Ermelo\, 
DESCRIPTION:Zaterdag 7 juni wordt er in het centrum van Ermelo een Pinkstermarkt gehouden. Deze gezellige markt staat vol met ruim 70 kramen waaronder veel hobbyisten met zelfgemaakte artikelen. De markt wordt gehouden in de Stationsstraat van 10.00 tot 17.00 uur.
SUMMARY:Pinkstermarkt in Ermelo
URL;VALUE=URI:https://www.ermelosezaken.nl/agenda/pinkstermarkt-in-ermelo
DTSTART:20250607T100000
DTEND:20250607T235900
END:VEVENT
END:VCALENDAR
