BEGIN:VCALENDAR
VERSION:2.0
PRODID:-//hacksw/handcal//NONSGML v1.0//EN
CALSCALE:GREGORIAN
BEGIN:VEVENT
UID:69ea6fc4c2a1b
DTSTAMP:20260423T191516
LOCATION:Centrum Ermelo\,Stationsstraat 
DESCRIPTION:Zeven dinsdagavonden lang staat het centrum (Stationsstraat) van Ermelo op zijn kop. Dit drukbezochte evenement zal Ermelo namelijk omtoveren tot een bruisende gezelligheid\, de Zomeravondbraderie is &eacute\;&eacute\;n van de grootste braderie&euml\;n van de Veluwe!
SUMMARY:Zomeravondbraderie in Ermelo
URL;VALUE=URI:https://www.ermelosezaken.nl/agenda/zomeravondbraderie-in-ermelo
DTSTART:20230710T180000
DTEND:20230710T235900
END:VEVENT
END:VCALENDAR
